BEGIN:VCALENDAR
VERSION:2.0
PRODID:-//Simon Robinson - ECPv4.9.7//NONSGML v1.0//EN
CALSCALE:GREGORIAN
METHOD:PUBLISH
X-WR-CALNAME:Simon Robinson
X-ORIGINAL-URL:http://simonrobinson.de
X-WR-CALDESC:Events for Simon Robinson
BEGIN:VTIMEZONE
TZID:"UTC"
BEGIN:STANDARD
TZOFFSETFROM:+0000
TZOFFSETTO:+0000
TZNAME:UTC
DTSTART:20170101T000000
END:STANDARD
END:VTIMEZONE
BEGIN:VEVENT
DTSTART;TZID="UTC":20170604T190000
DTEND;TZID="UTC":20170604T220000
DTSTAMP:20260422T091152
CREATED:20170603T084053Z
LAST-MODIFIED:20170603T084053Z
UID:838-1496602800-1496613600@simonrobinson.de
SUMMARY:G. F. Händel – Messiah – Dublin Version 1742
DESCRIPTION:Tage für Alte Musik\, Regensburg \n  \nSOLOMON’S KNOT BAROQUE COLLECTIVE  \nZoë Brookshaw\, Laura Oldfield  Sopran\nKate Symonds-Joy\, Roderick Morris  Alt\nThomas Herford\, Ruairi Bowen  Tenor\nJonathan Sells\, Simon Robinson  Bass \n
URL:http://simonrobinson.de/event/g-f-handel-messiah-dublin-version-1742
END:VEVENT
END:VCALENDAR