BEGIN:VCALENDAR
VERSION:2.0
PRODID:-//Simon Robinson - ECPv4.9.7//NONSGML v1.0//EN
CALSCALE:GREGORIAN
METHOD:PUBLISH
X-WR-CALNAME:Simon Robinson
X-ORIGINAL-URL:http://simonrobinson.de
X-WR-CALDESC:Events for Simon Robinson
BEGIN:VTIMEZONE
TZID:"UTC"
BEGIN:STANDARD
TZOFFSETFROM:+0000
TZOFFSETTO:+0000
TZNAME:UTC
DTSTART:20190101T000000
END:STANDARD
END:VTIMEZONE
BEGIN:VEVENT
DTSTART;TZID="UTC":20190331T180000
DTEND;TZID="UTC":20190331T200000
DTSTAMP:20260422T090722
CREATED:20190304T172925Z
LAST-MODIFIED:20190304T172925Z
UID:1039-1554055200-1554062400@simonrobinson.de
SUMMARY:Getrudenmusik Hamburg 1607
DESCRIPTION:Bettina Pahn (Sopran)\,\nStefanie Schaefer (Alt)\,\nColin Balzer (Tenor)\,\nSimon Robinson (Bass)  \n Kantorei St. Jacobi | Ensemble Schirokko | Gerhard Löffler – Leitung \n
URL:http://simonrobinson.de/event/getrudenmusik-hamburg-1607
END:VEVENT
END:VCALENDAR