BEGIN:VCALENDAR
VERSION:2.0
PRODID:-//Simon Robinson - ECPv4.9.7//NONSGML v1.0//EN
CALSCALE:GREGORIAN
METHOD:PUBLISH
X-WR-CALNAME:Simon Robinson
X-ORIGINAL-URL:http://simonrobinson.de
X-WR-CALDESC:Events for Simon Robinson
BEGIN:VTIMEZONE
TZID:"UTC"
BEGIN:STANDARD
TZOFFSETFROM:+0000
TZOFFSETTO:+0000
TZNAME:UTC
DTSTART:20250101T000000
END:STANDARD
END:VTIMEZONE
BEGIN:VEVENT
DTSTART;TZID="UTC":20250418T080000
DTEND;TZID="UTC":20250418T160000
DTSTAMP:20260421T101805
CREATED:20250128T204733Z
LAST-MODIFIED:20250128T210331Z
UID:1247-1744963200-1744992000@simonrobinson.de
SUMMARY:J.S Bach - Mathäuspassion
DESCRIPTION:Sophie Klussmann\, Sopran\nMarie-Claude Chappuis\, Mezzosopran\nManuel Günther\, Tenor (Evangelist)\nBenjamin Glaubitz\, Tenor (Arien)\nSimon Robinson\, Bass (Arien)\nTobias Schabel\, Bass (Christus) \nJunge Stimmen des Konservatorium Winterthur\, Kinderchor\, Einstudierung: Philipp Klahn \nTonhalle-Orchester Zürich \nJoachim Krause\, Leitung \n
URL:http://simonrobinson.de/event/j-s-bach-mathauspassion-2
LOCATION:Tonhalle Zürich\, Claridenstrasse 7\, Zürich\, 8002\, Switzerland
END:VEVENT
END:VCALENDAR