BEGIN:VCALENDAR
VERSION:2.0
PRODID:-//Simon Robinson - ECPv4.9.7//NONSGML v1.0//EN
CALSCALE:GREGORIAN
METHOD:PUBLISH
X-WR-CALNAME:Simon Robinson
X-ORIGINAL-URL:http://simonrobinson.de
X-WR-CALDESC:Events for Simon Robinson
BEGIN:VTIMEZONE
TZID:"UTC"
BEGIN:STANDARD
TZOFFSETFROM:+0000
TZOFFSETTO:+0000
TZNAME:UTC
DTSTART:20240101T000000
END:STANDARD
END:VTIMEZONE
BEGIN:VEVENT
DTSTART;TZID="UTC":20241116T080000
DTEND;TZID="UTC":20241116T170000
DTSTAMP:20260419T130405
CREATED:20240920T142211Z
LAST-MODIFIED:20240920T142211Z
UID:1229-1731744000-1731776400@simonrobinson.de
SUMMARY:Johannes Brahms - Deutsches Requiem
DESCRIPTION:Sopran: Barbara Buntemeyer\nBariton: Daniel Wunderling\nKlavier: Antje Elger und Thorsten Kalldewei\nChor: Kirchenchöre Alt-Pankow und Weissensee\nLeitung: Dr. Rudite Livmane \n
URL:http://simonrobinson.de/event/johannes-brahms-deutsches-requiem
END:VEVENT
END:VCALENDAR