BEGIN:VCALENDAR
VERSION:2.0
PRODID:-//Simon Robinson - ECPv4.9.7//NONSGML v1.0//EN
CALSCALE:GREGORIAN
METHOD:PUBLISH
X-WR-CALNAME:Simon Robinson
X-ORIGINAL-URL:http://simonrobinson.de
X-WR-CALDESC:Events for Simon Robinson
BEGIN:VTIMEZONE
TZID:"UTC"
BEGIN:STANDARD
TZOFFSETFROM:+0000
TZOFFSETTO:+0000
TZNAME:UTC
DTSTART:20250101T000000
END:STANDARD
END:VTIMEZONE
BEGIN:VEVENT
DTSTART;TZID="UTC":20250509T190000
DTEND;TZID="UTC":20250509T190000
DTSTAMP:20260421T085416
CREATED:20250128T210003Z
LAST-MODIFIED:20250128T210003Z
UID:1252-1746817200-1746817200@simonrobinson.de
SUMMARY:Wojciech Kialr – Missa pro pace
DESCRIPTION:Orkiestra Symfoniczna Filharmonii Pomorskiej\nChór Singakademie Frankfurt (Oder)\nChór Akademicki Uniwersytetu Kazimierza Wielkiego w Bydgoszczy \nRaoul Grüneis dirigent\nAlessia Schumacher sopran\nMerlind Constanze Pohl alt\nRafał Bartmiński tenor\nSimon Robinson bass \n
URL:http://simonrobinson.de/event/wojciech-kialr-missa-pro-pace
LOCATION:Filhamonie\, Andrzeja Szwalbego 6\, 85-080 Bydgoszcz\, Poland\, Bydgoszcz\, 85-080\, Poland
END:VEVENT
END:VCALENDAR